BEGIN:VCALENDAR
VERSION:2.0
PRODID:-//Sportfreunde - ECPv6.15.20//NONSGML v1.0//EN
CALSCALE:GREGORIAN
METHOD:PUBLISH
X-ORIGINAL-URL:http://news.sf-wallmenroth.de
X-WR-CALDESC:Veranstaltungen für Sportfreunde
REFRESH-INTERVAL;VALUE=DURATION:PT1H
X-Robots-Tag:noindex
X-PUBLISHED-TTL:PT1H
BEGIN:VTIMEZONE
TZID:Europe/Berlin
BEGIN:DAYLIGHT
TZOFFSETFROM:+0100
TZOFFSETTO:+0200
TZNAME:CEST
DTSTART:20240331T010000
END:DAYLIGHT
BEGIN:STANDARD
TZOFFSETFROM:+0200
TZOFFSETTO:+0100
TZNAME:CET
DTSTART:20241027T010000
END:STANDARD
BEGIN:DAYLIGHT
TZOFFSETFROM:+0100
TZOFFSETTO:+0200
TZNAME:CEST
DTSTART:20250330T010000
END:DAYLIGHT
BEGIN:STANDARD
TZOFFSETFROM:+0200
TZOFFSETTO:+0100
TZNAME:CET
DTSTART:20251026T010000
END:STANDARD
BEGIN:DAYLIGHT
TZOFFSETFROM:+0100
TZOFFSETTO:+0200
TZNAME:CEST
DTSTART:20260329T010000
END:DAYLIGHT
BEGIN:STANDARD
TZOFFSETFROM:+0200
TZOFFSETTO:+0100
TZNAME:CET
DTSTART:20261025T010000
END:STANDARD
END:VTIMEZONE
BEGIN:VEVENT
DTSTART;TZID=Europe/Berlin:20251005T123000
DTEND;TZID=Europe/Berlin:20251005T143000
DTSTAMP:20260420T154227
CREATED:20250718T102934Z
LAST-MODIFIED:20250718T102934Z
UID:13014-1759667400-1759674600@news.sf-wallmenroth.de
SUMMARY:Kreisliga C1: SG Herdorf II - SGWS II
DESCRIPTION:
URL:http://news.sf-wallmenroth.de/event/kreisliga-c1-sg-herdorf-ii-sgws-ii
END:VEVENT
BEGIN:VEVENT
DTSTART;TZID=Europe/Berlin:20251005T150000
DTEND;TZID=Europe/Berlin:20251005T170000
DTSTAMP:20260420T154227
CREATED:20250718T070339Z
LAST-MODIFIED:20250718T070339Z
UID:12962-1759676400-1759683600@news.sf-wallmenroth.de
SUMMARY:Kreisliga A1: SG Mittelhof - SGWS
DESCRIPTION:
URL:http://news.sf-wallmenroth.de/event/kreisliga-a1-sg-mittelhof-sgws
END:VEVENT
BEGIN:VEVENT
DTSTART;TZID=Europe/Berlin:20251010T193000
DTEND;TZID=Europe/Berlin:20251010T213000
DTSTAMP:20260420T154227
CREATED:20250718T070443Z
LAST-MODIFIED:20250928T091333Z
UID:12964-1760124600-1760131800@news.sf-wallmenroth.de
SUMMARY:Kreisliga A1: SGWS - SG Alpenrod
DESCRIPTION:
URL:http://news.sf-wallmenroth.de/event/kreisliga-a1-sgws-sg-alpenrod
LOCATION:Wallmenroth\, Dasberg-Arena\, Muhlau\, Wallmenroth\, Rheinland-Pfalz\, 57584\, Deutschland
END:VEVENT
BEGIN:VEVENT
DTSTART;TZID=Europe/Berlin:20251012T123000
DTEND;TZID=Europe/Berlin:20251012T143000
DTSTAMP:20260420T154227
CREATED:20250718T103047Z
LAST-MODIFIED:20250718T103047Z
UID:13016-1760272200-1760279400@news.sf-wallmenroth.de
SUMMARY:Kreisliga C1: SGWS II - SG Mittelhof II
DESCRIPTION:
URL:http://news.sf-wallmenroth.de/event/kreisliga-c1-sgws-ii-sg-mittelhof-ii
LOCATION:Wallmenroth\, Dasberg-Arena\, Muhlau\, Wallmenroth\, Rheinland-Pfalz\, 57584\, Deutschland
END:VEVENT
BEGIN:VEVENT
DTSTART;TZID=Europe/Berlin:20251019T130000
DTEND;TZID=Europe/Berlin:20251019T150000
DTSTAMP:20260420T154227
CREATED:20250718T103152Z
LAST-MODIFIED:20250718T103152Z
UID:13018-1760878800-1760886000@news.sf-wallmenroth.de
SUMMARY:Kreisliga C1: SV Adler Derschen II - SGWS II
DESCRIPTION:
URL:http://news.sf-wallmenroth.de/event/kreisliga-c1-sv-adler-derschen-ii-sgws-ii
END:VEVENT
BEGIN:VEVENT
DTSTART;TZID=Europe/Berlin:20251019T150000
DTEND;TZID=Europe/Berlin:20251019T170000
DTSTAMP:20260420T154227
CREATED:20250718T070556Z
LAST-MODIFIED:20250718T070556Z
UID:12966-1760886000-1760893200@news.sf-wallmenroth.de
SUMMARY:Kreisliga A1: SSV Weyerbusch - SGWS
DESCRIPTION:
URL:http://news.sf-wallmenroth.de/event/kreisliga-a1-ssv-weyerbusch-sgws
END:VEVENT
BEGIN:VEVENT
DTSTART;TZID=Europe/Berlin:20251026T123000
DTEND;TZID=Europe/Berlin:20251026T143000
DTSTAMP:20260420T154227
CREATED:20250718T103304Z
LAST-MODIFIED:20250718T103304Z
UID:13020-1761481800-1761489000@news.sf-wallmenroth.de
SUMMARY:Kreisliga C1: SGWS II - SG Atzelgift/Nister II
DESCRIPTION:
URL:http://news.sf-wallmenroth.de/event/kreisliga-c1-sgws-ii-sg-atzelgift-nister-ii
LOCATION:Wallmenroth\, Dasberg-Arena\, Muhlau\, Wallmenroth\, Rheinland-Pfalz\, 57584\, Deutschland
END:VEVENT
BEGIN:VEVENT
DTSTART;TZID=Europe/Berlin:20251026T150000
DTEND;TZID=Europe/Berlin:20251026T170000
DTSTAMP:20260420T154227
CREATED:20250718T070714Z
LAST-MODIFIED:20250718T070714Z
UID:12968-1761490800-1761498000@news.sf-wallmenroth.de
SUMMARY:Kreisliga A1: SGWS - SG Atzelgift/Nister
DESCRIPTION:
URL:http://news.sf-wallmenroth.de/event/kreisliga-a1-sgws-sg-atzelgift-nister
LOCATION:Wallmenroth\, Dasberg-Arena\, Muhlau\, Wallmenroth\, Rheinland-Pfalz\, 57584\, Deutschland
END:VEVENT
END:VCALENDAR