BEGIN:VCALENDAR
VERSION:2.0
PRODID:-//Sportfreunde - ECPv6.15.20//NONSGML v1.0//EN
CALSCALE:GREGORIAN
METHOD:PUBLISH
X-WR-CALNAME:Sportfreunde
X-ORIGINAL-URL:http://news.sf-wallmenroth.de
X-WR-CALDESC:Veranstaltungen für Sportfreunde
REFRESH-INTERVAL;VALUE=DURATION:PT1H
X-Robots-Tag:noindex
X-PUBLISHED-TTL:PT1H
BEGIN:VTIMEZONE
TZID:Europe/Berlin
BEGIN:DAYLIGHT
TZOFFSETFROM:+0100
TZOFFSETTO:+0200
TZNAME:CEST
DTSTART:20240331T010000
END:DAYLIGHT
BEGIN:STANDARD
TZOFFSETFROM:+0200
TZOFFSETTO:+0100
TZNAME:CET
DTSTART:20241027T010000
END:STANDARD
BEGIN:DAYLIGHT
TZOFFSETFROM:+0100
TZOFFSETTO:+0200
TZNAME:CEST
DTSTART:20250330T010000
END:DAYLIGHT
BEGIN:STANDARD
TZOFFSETFROM:+0200
TZOFFSETTO:+0100
TZNAME:CET
DTSTART:20251026T010000
END:STANDARD
BEGIN:DAYLIGHT
TZOFFSETFROM:+0100
TZOFFSETTO:+0200
TZNAME:CEST
DTSTART:20260329T010000
END:DAYLIGHT
BEGIN:STANDARD
TZOFFSETFROM:+0200
TZOFFSETTO:+0100
TZNAME:CET
DTSTART:20261025T010000
END:STANDARD
END:VTIMEZONE
BEGIN:VEVENT
DTSTART;TZID=Europe/Berlin:20250907T130000
DTEND;TZID=Europe/Berlin:20250907T150000
DTSTAMP:20260420T171923
CREATED:20250718T102513Z
LAST-MODIFIED:20250718T102513Z
UID:13006-1757250000-1757257200@news.sf-wallmenroth.de
SUMMARY:Kreisliga C1: SG Honigsessen ii - SGWS II
DESCRIPTION:
URL:http://news.sf-wallmenroth.de/event/kreisliga-c1-sg-honigsessen-ii-sgws-ii
END:VEVENT
BEGIN:VEVENT
DTSTART;TZID=Europe/Berlin:20250907T150000
DTEND;TZID=Europe/Berlin:20250907T170000
DTSTAMP:20260420T171923
CREATED:20250718T065913Z
LAST-MODIFIED:20250718T065913Z
UID:12954-1757257200-1757264400@news.sf-wallmenroth.de
SUMMARY:Kreisliga A1: Herschbach-Schenkelberg - SGWS
DESCRIPTION:
URL:http://news.sf-wallmenroth.de/event/kreisliga-a1-herschbach-schenkelberg-sgws
END:VEVENT
BEGIN:VEVENT
DTSTART;TZID=Europe/Berlin:20250914T123000
DTEND;TZID=Europe/Berlin:20250914T143000
DTSTAMP:20260420T171923
CREATED:20250718T102618Z
LAST-MODIFIED:20250718T102618Z
UID:13008-1757853000-1757860200@news.sf-wallmenroth.de
SUMMARY:Kreisliga C1: SGWS II - JV Neunkhausen
DESCRIPTION:
URL:http://news.sf-wallmenroth.de/event/kreisliga-c1-sgws-ii-jv-neunkhausen
LOCATION:Wallmenroth\, Dasberg-Arena\, Muhlau\, Wallmenroth\, Rheinland-Pfalz\, 57584\, Deutschland
END:VEVENT
BEGIN:VEVENT
DTSTART;TZID=Europe/Berlin:20250914T150000
DTEND;TZID=Europe/Berlin:20250914T170000
DTSTAMP:20260420T171923
CREATED:20250718T070012Z
LAST-MODIFIED:20250718T070012Z
UID:12956-1757862000-1757869200@news.sf-wallmenroth.de
SUMMARY:Kreisliga A1: SGWS - VfB Wissen II
DESCRIPTION:
URL:http://news.sf-wallmenroth.de/event/kreisliga-a1-sgws-vfb-wissen-ii
LOCATION:Wallmenroth\, Dasberg-Arena\, Muhlau\, Wallmenroth\, Rheinland-Pfalz\, 57584\, Deutschland
END:VEVENT
BEGIN:VEVENT
DTSTART;TZID=Europe/Berlin:20250919T193000
DTEND;TZID=Europe/Berlin:20250919T213000
DTSTAMP:20260420T171923
CREATED:20250718T102722Z
LAST-MODIFIED:20250916T155413Z
UID:13010-1758310200-1758317400@news.sf-wallmenroth.de
SUMMARY:Kreisliga C1: SG Weitefeld II - SGWS II
DESCRIPTION:
URL:http://news.sf-wallmenroth.de/event/kreisliga-c1-sg-weitefeld-ii-sgws-ii
END:VEVENT
BEGIN:VEVENT
DTSTART;TZID=Europe/Berlin:20250919T193000
DTEND;TZID=Europe/Berlin:20250919T213000
DTSTAMP:20260420T171923
CREATED:20250919T173009Z
LAST-MODIFIED:20250916T155627Z
UID:12958-1758310200-1758317400@news.sf-wallmenroth.de
SUMMARY:Kreisliga A1: Spfr. Schönstein - SGWS
DESCRIPTION:
URL:http://news.sf-wallmenroth.de/event/kreisliga-a1-spfr-schoenstein-sgws
END:VEVENT
BEGIN:VEVENT
DTSTART;TZID=Europe/Berlin:20250924T193000
DTEND;TZID=Europe/Berlin:20250924T213000
DTSTAMP:20260420T171923
CREATED:20250718T102832Z
LAST-MODIFIED:20250916T155851Z
UID:13012-1758742200-1758749400@news.sf-wallmenroth.de
SUMMARY:Kreisliga C1: SGWS II - SG Malberg II
DESCRIPTION:
URL:http://news.sf-wallmenroth.de/event/kreisliga-c1-sgws-ii-sg-malberg-ii
LOCATION:Wallmenroth\, Dasberg-Arena\, Muhlau\, Wallmenroth\, Rheinland-Pfalz\, 57584\, Deutschland
END:VEVENT
BEGIN:VEVENT
DTSTART;TZID=Europe/Berlin:20250926T190000
DTEND;TZID=Europe/Berlin:20250926T210000
DTSTAMP:20260420T171923
CREATED:20250718T070242Z
LAST-MODIFIED:20250718T070242Z
UID:12960-1758913200-1758920400@news.sf-wallmenroth.de
SUMMARY:Kreisliga A1: SGWS - SG Hammer Land
DESCRIPTION:
URL:http://news.sf-wallmenroth.de/event/kreisliga-a1-sgws-sg-hammer-land
LOCATION:Wallmenroth\, Dasberg-Arena\, Muhlau\, Wallmenroth\, Rheinland-Pfalz\, 57584\, Deutschland
END:VEVENT
BEGIN:VEVENT
DTSTART;TZID=Europe/Berlin:20250927T190000
DTEND;TZID=Europe/Berlin:20250928T030000
DTSTAMP:20260420T171923
CREATED:20250703T060315Z
LAST-MODIFIED:20250703T060315Z
UID:12722-1758999600-1759028400@news.sf-wallmenroth.de
SUMMARY:Oktoberfest 2025
DESCRIPTION:
URL:http://news.sf-wallmenroth.de/event/oktoberfest-2025
LOCATION:Sporthalle Wallmenroth
END:VEVENT
END:VCALENDAR