BEGIN:VCALENDAR
VERSION:2.0
PRODID:-//Sportfreunde - ECPv6.15.20//NONSGML v1.0//EN
CALSCALE:GREGORIAN
METHOD:PUBLISH
X-ORIGINAL-URL:http://news.sf-wallmenroth.de
X-WR-CALDESC:Veranstaltungen für Sportfreunde
REFRESH-INTERVAL;VALUE=DURATION:PT1H
X-Robots-Tag:noindex
X-PUBLISHED-TTL:PT1H
BEGIN:VTIMEZONE
TZID:Europe/Berlin
BEGIN:DAYLIGHT
TZOFFSETFROM:+0100
TZOFFSETTO:+0200
TZNAME:CEST
DTSTART:20240331T010000
END:DAYLIGHT
BEGIN:STANDARD
TZOFFSETFROM:+0200
TZOFFSETTO:+0100
TZNAME:CET
DTSTART:20241027T010000
END:STANDARD
BEGIN:DAYLIGHT
TZOFFSETFROM:+0100
TZOFFSETTO:+0200
TZNAME:CEST
DTSTART:20250330T010000
END:DAYLIGHT
BEGIN:STANDARD
TZOFFSETFROM:+0200
TZOFFSETTO:+0100
TZNAME:CET
DTSTART:20251026T010000
END:STANDARD
BEGIN:DAYLIGHT
TZOFFSETFROM:+0100
TZOFFSETTO:+0200
TZNAME:CEST
DTSTART:20260329T010000
END:DAYLIGHT
BEGIN:STANDARD
TZOFFSETFROM:+0200
TZOFFSETTO:+0100
TZNAME:CET
DTSTART:20261025T010000
END:STANDARD
END:VTIMEZONE
BEGIN:VEVENT
DTSTART;TZID=Europe/Berlin:20250803T150000
DTEND;TZID=Europe/Berlin:20250803T170000
DTSTAMP:20260420T185355
CREATED:20250711T073041Z
LAST-MODIFIED:20250711T073041Z
UID:12863-1754233200-1754240400@news.sf-wallmenroth.de
SUMMARY:Bitburger Rheinlandpokal: SG Wallmenroth II - Spvgg.EGC Wirges
DESCRIPTION:
URL:http://news.sf-wallmenroth.de/event/bitburger-rheinlandpokal-sg-wallmenroth-ii-spvgg-egc-wirges
LOCATION:Wallmenroth\, Dasberg-Arena\, Muhlau\, Wallmenroth\, Rheinland-Pfalz\, 57584\, Deutschland
END:VEVENT
BEGIN:VEVENT
DTSTART;TZID=Europe/Berlin:20250810T123000
DTEND;TZID=Europe/Berlin:20250810T170000
DTSTAMP:20260420T185355
CREATED:20250718T102057Z
LAST-MODIFIED:20250718T102057Z
UID:12998-1754829000-1754845200@news.sf-wallmenroth.de
SUMMARY:Kreisliga C1: SGWS II - SG Gebhardshain II
DESCRIPTION:
URL:http://news.sf-wallmenroth.de/event/kreisliga-c1-sgws-ii-sg-gebhardshain-ii
LOCATION:Wallmenroth\, Dasberg-Arena\, Muhlau\, Wallmenroth\, Rheinland-Pfalz\, 57584\, Deutschland
END:VEVENT
BEGIN:VEVENT
DTSTART;TZID=Europe/Berlin:20250810T150000
DTEND;TZID=Europe/Berlin:20250810T170000
DTSTAMP:20260420T185355
CREATED:20250718T065454Z
LAST-MODIFIED:20250718T065454Z
UID:12946-1754838000-1754845200@news.sf-wallmenroth.de
SUMMARY:Kreisliga A1: SGWS - SG Gebhardshain
DESCRIPTION:
URL:http://news.sf-wallmenroth.de/event/kreisliga-a1-sgws-sg-gebhardshain
LOCATION:Wallmenroth\, Dasberg-Arena\, Muhlau\, Wallmenroth\, Rheinland-Pfalz\, 57584\, Deutschland
END:VEVENT
BEGIN:VEVENT
DTSTART;TZID=Europe/Berlin:20250817T150000
DTEND;TZID=Europe/Berlin:20250817T170000
DTSTAMP:20260420T185355
CREATED:20250718T065600Z
LAST-MODIFIED:20250718T065600Z
UID:12948-1755442800-1755450000@news.sf-wallmenroth.de
SUMMARY:Kreisliga A1: SG Altenkirchen - SGWS
DESCRIPTION:
URL:http://news.sf-wallmenroth.de/event/kreisliga-a1-sg-altenkirchen-sgws
END:VEVENT
BEGIN:VEVENT
DTSTART;TZID=Europe/Berlin:20250817T150000
DTEND;TZID=Europe/Berlin:20250817T170000
DTSTAMP:20260420T185355
CREATED:20250718T102153Z
LAST-MODIFIED:20250718T102153Z
UID:13000-1755442800-1755450000@news.sf-wallmenroth.de
SUMMARY:Kreisliga C1: AtA Betzdorf - SGWS II
DESCRIPTION:
URL:http://news.sf-wallmenroth.de/event/kreisliga-c1-ata-betzdorf-sgws-ii
END:VEVENT
BEGIN:VEVENT
DTSTART;TZID=Europe/Berlin:20250820T193000
DTEND;TZID=Europe/Berlin:20250820T213000
DTSTAMP:20260420T185355
CREATED:20250707T044335Z
LAST-MODIFIED:20250707T044335Z
UID:12826-1755718200-1755725400@news.sf-wallmenroth.de
SUMMARY:Bitburger Kreispokal:  SG Alpenrod II - SG Wallmenroth
DESCRIPTION:
URL:http://news.sf-wallmenroth.de/event/bitburger-kreispokal-sg-alpenrod-ii-sg-wallmenroth
END:VEVENT
BEGIN:VEVENT
DTSTART;TZID=Europe/Berlin:20250824T143000
DTEND;TZID=Europe/Berlin:20250824T170000
DTSTAMP:20260420T185355
CREATED:20250718T102245Z
LAST-MODIFIED:20250718T102245Z
UID:13002-1756045800-1756054800@news.sf-wallmenroth.de
SUMMARY:Kreisliga C1: SG Grünebach - SGWS II
DESCRIPTION:
URL:http://news.sf-wallmenroth.de/event/kreisliga-c1-sg-gruenebach-sgws-ii
END:VEVENT
BEGIN:VEVENT
DTSTART;TZID=Europe/Berlin:20250824T150000
DTEND;TZID=Europe/Berlin:20250824T170000
DTSTAMP:20260420T185355
CREATED:20250718T065653Z
LAST-MODIFIED:20250718T065653Z
UID:12950-1756047600-1756054800@news.sf-wallmenroth.de
SUMMARY:Kreisliga A1: VfB Niederdreisbach - SGWS
DESCRIPTION:
URL:http://news.sf-wallmenroth.de/event/kreisliga-a1-vfb-niederdreisbach-sgws
END:VEVENT
BEGIN:VEVENT
DTSTART;TZID=Europe/Berlin:20250831T123000
DTEND;TZID=Europe/Berlin:20250831T143000
DTSTAMP:20260420T185355
CREATED:20250718T102400Z
LAST-MODIFIED:20250718T102400Z
UID:13004-1756643400-1756650600@news.sf-wallmenroth.de
SUMMARY:Kreisliga C1: SGWS II - Spfr. Daaden II
DESCRIPTION:
URL:http://news.sf-wallmenroth.de/event/kreisliga-c1-sgws-ii-spfr-daaden-ii
LOCATION:Wallmenroth\, Dasberg-Arena\, Muhlau\, Wallmenroth\, Rheinland-Pfalz\, 57584\, Deutschland
END:VEVENT
BEGIN:VEVENT
DTSTART;TZID=Europe/Berlin:20250831T150000
DTEND;TZID=Europe/Berlin:20250831T170000
DTSTAMP:20260420T185355
CREATED:20250718T065753Z
LAST-MODIFIED:20250718T065753Z
UID:12952-1756652400-1756659600@news.sf-wallmenroth.de
SUMMARY:Kreisliga A1: SGWS - SG Weitefeld
DESCRIPTION:
URL:http://news.sf-wallmenroth.de/event/kreisliga-a1-sgws-sg-weitefeld
LOCATION:Wallmenroth\, Dasberg-Arena\, Muhlau\, Wallmenroth\, Rheinland-Pfalz\, 57584\, Deutschland
END:VEVENT
END:VCALENDAR